BEGIN:VCALENDAR
VERSION:2.0
PRODID:-//DarkSky West Marin - ECPv6.15.20//NONSGML v1.0//EN
CALSCALE:GREGORIAN
METHOD:PUBLISH
X-WR-CALNAME:DarkSky West Marin
X-ORIGINAL-URL:https://darkskywestmarin.com
X-WR-CALDESC:Events for DarkSky West Marin
REFRESH-INTERVAL;VALUE=DURATION:PT1H
X-Robots-Tag:noindex
X-PUBLISHED-TTL:PT1H
BEGIN:VTIMEZONE
TZID:America/Los_Angeles
BEGIN:DAYLIGHT
TZOFFSETFROM:-0800
TZOFFSETTO:-0700
TZNAME:PDT
DTSTART:20210314T100000
END:DAYLIGHT
BEGIN:STANDARD
TZOFFSETFROM:-0700
TZOFFSETTO:-0800
TZNAME:PST
DTSTART:20211107T090000
END:STANDARD
BEGIN:DAYLIGHT
TZOFFSETFROM:-0800
TZOFFSETTO:-0700
TZNAME:PDT
DTSTART:20220313T100000
END:DAYLIGHT
BEGIN:STANDARD
TZOFFSETFROM:-0700
TZOFFSETTO:-0800
TZNAME:PST
DTSTART:20221106T090000
END:STANDARD
BEGIN:DAYLIGHT
TZOFFSETFROM:-0800
TZOFFSETTO:-0700
TZNAME:PDT
DTSTART:20230312T100000
END:DAYLIGHT
BEGIN:STANDARD
TZOFFSETFROM:-0700
TZOFFSETTO:-0800
TZNAME:PST
DTSTART:20231105T090000
END:STANDARD
BEGIN:DAYLIGHT
TZOFFSETFROM:-0800
TZOFFSETTO:-0700
TZNAME:PDT
DTSTART:20240310T100000
END:DAYLIGHT
BEGIN:STANDARD
TZOFFSETFROM:-0700
TZOFFSETTO:-0800
TZNAME:PST
DTSTART:20241103T090000
END:STANDARD
BEGIN:DAYLIGHT
TZOFFSETFROM:-0800
TZOFFSETTO:-0700
TZNAME:PDT
DTSTART:20250309T100000
END:DAYLIGHT
BEGIN:STANDARD
TZOFFSETFROM:-0700
TZOFFSETTO:-0800
TZNAME:PST
DTSTART:20251102T090000
END:STANDARD
END:VTIMEZONE
BEGIN:VEVENT
DTSTART;TZID=America/Los_Angeles:20240402T193000
DTEND;TZID=America/Los_Angeles:20240402T213000
DTSTAMP:20260422T211506
CREATED:20240316T190207Z
LAST-MODIFIED:20240322T235314Z
UID:1862-1712086200-1712093400@darkskywestmarin.com
SUMMARY:Don Jolley & Dan Smiley's Telescope Night in West Marin - DarkSky Week Event
DESCRIPTION:  \nDan Smiley with Marin Stargazers\nJoin Don Jolley and Dan Smiley for an evening of stargazing in the beautiful dark skies of West Marin! Telescopes will be set up to view Jupiter\, Orion with its Great Nebula\, the star clusters of Auriga and Gemini\, and distant galaxies\, including Bode’s Nebula. Connect with the cosmos as we celebrate International Dark Sky Week! Park at 3rd & C Street in Point Reyes Station and follow the little trailside lamps to the White Barn. The path is rutted and uneven; a flashlight will help. Dress warmly and bring your curiosity! Rain or clouds cancel. Unlimited spaces. \nQuestions? Email DarkSkyWestMarin@gmail.com. \nIf you like\, donations of $10 or more will benefit DarkSkyWestMarin’s education and outreach program! Please bring exact cash or a check made out to PRSVA to the event.
URL:https://darkskywestmarin.com/event/don-dans-telescope-night/
LOCATION:Giacomini Wetlands\, 180 3rd St\, Point Reyes Station\, CA\, 94956\, United States
CATEGORIES:Educational events,Stargazing
ORGANIZER;CN="Dark Sky West Marin":MAILTO:darkskywestmarin@gmail.com
END:VEVENT
BEGIN:VEVENT
DTSTART;TZID=America/Los_Angeles:20220918T210000
DTEND;TZID=America/Los_Angeles:20220925T220000
DTSTAMP:20260422T211506
CREATED:20220919T021913Z
LAST-MODIFIED:20220922T174142Z
UID:912-1663534800-1664143200@darkskywestmarin.com
SUMMARY:Stargazing with Don Jolley between Sept 20 & Sept 25
DESCRIPTION:[Follow Don’s Weather Reports at DarkSkyPointReyes.com for up-to-the-hour announcements.] \n\nDate: (Between Sept 20 – 25) – Exact date TBD by the fog\nTime: About 9:00 pm\nPlace: Giacomini Wetlands (3rd & C Sts)\, spaces are limited\nDonation: $10-$20\, nondeductible donation. Please pay below or bring exact change to the event.\n\nWhat to bring: \n\n\n\nWarm clothes\nChair\, blanket\, or sleeping roll\nPrint out of night sky map with names on it.\nFlashlight prepared as in instructions below or red lamp\nYour curiosity\nStarcharts\nDon Jolley with Stargazers © Karl Mondon\n\n\n\nWe meet every month at the Giacomini Wetlands to enjoy our beautiful night sky and listen to Don Jolley’s spellbinding stories about billions and billions of celestial bodies. \nEach month we look for a “window of opportunity” when the sky is the darkest to conduct naked-eye stargazing. \nWe are now accepting sign-ups on this website only. Spaces are limited. \nFlashlight preparation: A headlamp or flashlight with a red bulb option will work just fine. To modify an ordinary flashlight\, cover the flashlight’s lens with masking tape\, and color the tape with a red marker. It may take a few layers to get the light to quiet down. You’ll want enough light to read your star chart in the dark\, but not so much that it blinds your vision of the stars. \nPresented in concert with Point Reyes National Seashore & Point Reyes Station Village Association \nAfter registration\, if you do not receive a link to pay in advance\, please bring cash to the event.
URL:https://darkskywestmarin.com/event/stargazing-with-don-jolley-between-sept-20-sept-25/
LOCATION:Giacomini Wetlands\, 180 3rd St\, Point Reyes Station\, CA\, 94956\, United States
CATEGORIES:Educational events,Stargazing
ORGANIZER;CN="Dark Sky Point Reyes":MAILTO:darkskypointreyes@gmail.com
END:VEVENT
BEGIN:VEVENT
DTSTART;TZID=America/Los_Angeles:20220819T213000
DTEND;TZID=America/Los_Angeles:20220820T223000
DTSTAMP:20260422T211506
CREATED:20220816T003030Z
LAST-MODIFIED:20250813T233739Z
UID:863-1660944600-1661034600@darkskywestmarin.com
SUMMARY:Stargazing with Don Jolley August 19-27
DESCRIPTION:Follow Don’s Weather Reports at DarkSkyPointReyes.com for up-to-the-hour announcements. \n\nDate: (Between August 19 -27) – Exact date TBD by the fog\nTime: About 9:30 pm\nPlace: Giacomini Wetlands (3rd & C Sts)\, spaces are limited\nDonation: $10-$20\, tax-deductible donation. Please pay HERE or bring exact change to the event.\n\nWhat to bring: \n\n\n\nWarm clothes\nChair\, blanket\, or sleeping roll\nPrint out of night sky map with names on it.\nFlashlight prepared as in instructions below or red lamp\nYour curiosity\nDon Jolley with Stargazers © Karl Mondon\n\n\n\nWe meet every month at the Giacomini Wetlands to enjoy our beautiful night sky and listen to Don Jolley’s spellbinding stories about billions and billions of celestial bodies. \nEach month we look for a “window of opportunity” when the sky is the darkest to conduct naked-eye stargazing. \nWe are now accepting sign-ups on this website only. Spaces are limited. \nFlashlight preparation: A headlamp or flashlight with a red bulb option will work just fine. To modify an ordinary flashlight\, cover the flashlight’s lens with masking tape\, and color the tape with a red marker. It may take a few layers to get the light to quiet down. You’ll want enough light to read your star chart in the dark\, but not so much that it blinds your vision of the stars. \nPresented in concert with Point Reyes National Seashore & Point Reyes Station Village Association \nDonation requests is your choice of $10 or $20. Please bring cash to the event or pay in advance on our DONATE page.
URL:https://darkskywestmarin.com/event/stargazing-with-don-jolley-august-19-27/
LOCATION:Giacomini Wetlands\, 180 3rd St\, Point Reyes Station\, CA\, 94956\, United States
CATEGORIES:Educational events
ORGANIZER;CN="Dark Sky Point Reyes":MAILTO:darkskypointreyes@gmail.com
END:VEVENT
END:VCALENDAR